BEGIN:VCALENDAR
VERSION:2.0
PRODID:-//Norwalk ACTS - ECPv6.15.20//NONSGML v1.0//EN
CALSCALE:GREGORIAN
METHOD:PUBLISH
X-WR-CALNAME:Norwalk ACTS
X-ORIGINAL-URL:https://norwalkacts.org
X-WR-CALDESC:Events for Norwalk ACTS
REFRESH-INTERVAL;VALUE=DURATION:PT1H
X-Robots-Tag:noindex
X-PUBLISHED-TTL:PT1H
BEGIN:VTIMEZONE
TZID:America/New_York
BEGIN:DAYLIGHT
TZOFFSETFROM:-0500
TZOFFSETTO:-0400
TZNAME:EDT
DTSTART:20230312T070000
END:DAYLIGHT
BEGIN:STANDARD
TZOFFSETFROM:-0400
TZOFFSETTO:-0500
TZNAME:EST
DTSTART:20231105T060000
END:STANDARD
BEGIN:DAYLIGHT
TZOFFSETFROM:-0500
TZOFFSETTO:-0400
TZNAME:EDT
DTSTART:20240310T070000
END:DAYLIGHT
BEGIN:STANDARD
TZOFFSETFROM:-0400
TZOFFSETTO:-0500
TZNAME:EST
DTSTART:20241103T060000
END:STANDARD
BEGIN:DAYLIGHT
TZOFFSETFROM:-0500
TZOFFSETTO:-0400
TZNAME:EDT
DTSTART:20250309T070000
END:DAYLIGHT
BEGIN:STANDARD
TZOFFSETFROM:-0400
TZOFFSETTO:-0500
TZNAME:EST
DTSTART:20251102T060000
END:STANDARD
END:VTIMEZONE
BEGIN:VEVENT
DTSTART;TZID=America/New_York:20241022T170000
DTEND;TZID=America/New_York:20241022T190000
DTSTAMP:20260424T050621
CREATED:20240701T030142Z
LAST-MODIFIED:20240921T162004Z
UID:19716-1729616400-1729623600@norwalkacts.org
SUMMARY:10 Years of Collective Impact in Norwalk
DESCRIPTION:You're invited to join Norwalk ACTS as we celebrate 10 years of Collective Impact in Norwalk! \n\n\n\nKeynote Speaker: Jennifer Blatz\, CEO of StriveTogether
URL:https://norwalkacts.org/events/10-year-of-collective-impact-in-norwalk/
LOCATION:Stepping Stones Museum for Children\, Mathews Park\, 303 West Avenue\, Norwalk\, CT
END:VEVENT
BEGIN:VEVENT
DTSTART;TZID=America/New_York:20241030T130000
DTEND;TZID=America/New_York:20241030T150000
DTSTAMP:20260424T050621
CREATED:20241003T160506Z
LAST-MODIFIED:20241019T011119Z
UID:20249-1730293200-1730300400@norwalkacts.org
SUMMARY:Early Childhood Development Initiative General Meeting
DESCRIPTION:https://zoom.us/j/7938741383?omn=99655602258
URL:https://norwalkacts.org/events/early-childhood-development-initiative-general-meeting/
END:VEVENT
END:VCALENDAR